BEGIN:VCALENDAR
VERSION:2.0
PRODID:-//Концерты фонда «Искусство добра» в Соборе на Малой Грузинской и других залах Москвы - ECPv6.15.11//NONSGML v1.0//EN
CALSCALE:GREGORIAN
METHOD:PUBLISH
X-WR-CALNAME:Концерты фонда «Искусство добра» в Соборе на Малой Грузинской и других залах Москвы
X-ORIGINAL-URL:https://artbene.ru
X-WR-CALDESC:Мероприятия для Концерты фонда «Искусство добра» в Соборе на Малой Грузинской и других залах Москвы
REFRESH-INTERVAL;VALUE=DURATION:PT1H
X-Robots-Tag:noindex
X-PUBLISHED-TTL:PT1H
BEGIN:VTIMEZONE
TZID:Europe/Moscow
BEGIN:STANDARD
TZOFFSETFROM:+0300
TZOFFSETTO:+0300
TZNAME:MSK
DTSTART:20250101T000000
END:STANDARD
END:VTIMEZONE
BEGIN:VEVENT
DTSTART;TZID=Europe/Moscow:20260425T200000
DTEND;TZID=Europe/Moscow:20260425T213000
DTSTAMP:20260425T002039
CREATED:20251211T150717Z
LAST-MODIFIED:20260310T132012Z
UID:10001218-1777147200-1777152600@artbene.ru
SUMMARY:Хоббит. Часть I. Волшебное кольцо. Музыкально-литературная композиция с песочной анимацией
DESCRIPTION:Как звучат книги Толкина? Ирландскими и английскими народными песнями? А может\, увертюрой к «Вильгельму Теллю»\, «Пещерой горного короля» или даже «Бабой-Ягой»? \nТакая разная музыка\, но вся она очень подходит к сказке про Хоббита. Программу подбирали долго\, а что-то музыкантам пришлось и досочинить – не хватало определённого настроения в определённом месте. Зато концерт-спектакль получился очень цельным\, несмотря на пёстрый и нестандартный инструментарий. \nПомимо музыки и художественного слова публику ждет визуальный ряд в виде песочной анимации.
URL:https://artbene.ru/concert/khobbit-chast-1-volshebnoe-kolco-konce/
LOCATION:Римско-католический кафедральный собор\, Малая Грузинская\, 27/13\, Москва\, 123557\, Russian Federation
CATEGORIES:Концерты в Соборе на Малой Грузинской
ATTACH;FMTTYPE=image/jpeg:https://artbene.ru/wp-content/uploads/25-3.jpg
END:VEVENT
BEGIN:VEVENT
DTSTART;TZID=Europe/Moscow:20260426T180000
DTEND;TZID=Europe/Moscow:20260426T193000
DTSTAMP:20260425T002039
CREATED:20260309T121320Z
LAST-MODIFIED:20260316T115436Z
UID:10001246-1777226400-1777231800@artbene.ru
SUMMARY:Пасхальный фестиваль в Анапе. Орган и голос
DESCRIPTION:Второй музыкальный вечер Пасхального фестиваля в анапском католическом храме сфокусирован на органном творчестве Баха\, включая знаменитую Токкату и фугу ре минор. Важной частью концерта станут французские и итальянские вокальные произведения в исполнении баритона. Среди них композиции\, вдохновлённые образом Девы Марии\, и гимн святой Цецилии\, небесной покровительнице всех церковных музыкантов.
URL:https://artbene.ru/concert/paskhalnyy-festival-v-anape-organ-i-g/
LOCATION:Храм свв. Ядвиги и Либория\, Ленинградская ул.\, 56\, ст. Анапская\, Russian Federation
CATEGORIES:Органные концерты в регионах
ATTACH;FMTTYPE=image/jpeg:https://artbene.ru/wp-content/uploads/83745054-ad17-4929-a5ee-eb63033e787a.jpeg
END:VEVENT
BEGIN:VEVENT
DTSTART;TZID=Europe/Moscow:20260429T200000
DTEND;TZID=Europe/Moscow:20260429T213000
DTSTAMP:20260425T002039
CREATED:20260220T095452Z
LAST-MODIFIED:20260421T111540Z
UID:10001241-1777492800-1777498200@artbene.ru
SUMMARY:Пасхальный праздничный концерт
DESCRIPTION:Заключительный концерт Пасхального фестиваля в соборе на Малой Грузинской позволит окунуться в атмосферу духовного праздника\, где музыкальные звуки станут живым выражением радости и надежды. Величественный орган\, задумчивый дудук\, нежная скрипка\, волшебная арфа и три талантливых певицы – сопрано\, меццо‑сопрано и контральто – создадут неповторимый звуковой коктейль\, который перенесёт вас в мир светлых и вдохновляющих эмоций. \nВ программе – только радостные произведения: Пасхальные хоралы Баха\, Аллилуйя Моцарта\, мажорная скрипичная соната Вивальди и много другой светлой музыки.
URL:https://artbene.ru/concert/paskhalnyy-prazdnichnyy-koncert/
LOCATION:Римско-католический кафедральный собор\, Малая Грузинская\, 27/13\, Москва\, 123557\, Russian Federation
CATEGORIES:Концерты в Соборе на Малой Грузинской
ATTACH;FMTTYPE=image/jpeg:https://artbene.ru/wp-content/uploads/29-1.jpg
END:VEVENT
END:VCALENDAR